BEGIN:VCALENDAR
VERSION:2.0
PRODID:-//Purkersdorf Online//NONSGML V1.0//DE
BEGIN:VEVENT
UID:13858@puon.at
DTSTAMP:20260424T151756
DTSTART:20190607T130000
DTEND:20190607T220000
LAST-MODIFIED:20190602T230331
DESCRIPTION:Klein Monmartre: Purkersdorfer Künstlerinnen und Künstler 
 präsentieren ihr Schaffen auf dem Hauptplatz. Begleitend gibt es musika
 lisches Programm im Schlosspark. 
 
LOCATION:Schlosspark Purkersdorf
SUMMARY:Eröffnung des Kultursommers
END:VEVENT
END:VCALENDAR
