BEGIN:VCALENDAR
VERSION:2.0
PRODID:-//Purkersdorf Online//NONSGML V1.0//DE
BEGIN:VEVENT
UID:377ehiosf9vb1mphulcec1e2pp@google.com
DTSTAMP:20260422T013037
DTSTART:20190602T120000
DTEND:20190602T150000
LAST-MODIFIED:20190531T105728
DESCRIPTION:<b>Unser Naturparkteam ist für Sie da:</b><br>mit Informatio
 nen zum Naturpark\, Betreuung des Naturparkzentrums\, jeweils mit einem 
 besonderen Thema\; Angebot für Kinder\, Literatur zum Schmökern und Rein
 lesen\, saisonale Besonderheiten<br><b>Eintritt frei\, Spende</b>
 
LOCATION:Naturparkzentrum Deutschwald, Zugang via R. Hanke-Gasse, 3002 Purkersdorf
SUMMARY:Open House im Naturparkzentrum
END:VEVENT
END:VCALENDAR
