BEGIN:VCALENDAR
VERSION:2.0
PRODID:-//Purkersdorf Online//NONSGML V1.0//DE
BEGIN:VEVENT
UID:13850@puon.at
DTSTAMP:20260424T210602
DTSTART:20190718T193000
DTEND:20190718T220000
LAST-MODIFIED:20190519T174548
DESCRIPTION:Foto fÃ¼r Helmut Tschellnig Â©Jauck\r\n\r\nKULTURSOMMER Purk
 ersdorf 2019\r\n  WÃ¼ster Alleingang – in der WÃ¼ste ist nichts. Und doc
 h alles\, was man wirklich braucht. Leben pur\, sozusagen.\r\nSie laufen
 d zu er- und Ã¼berleben ist eins der letzten Abenteuer\, sagt Helmut Tsc
 hellnig\, der Purkersdorfer Stadtschauspieler und Kabaretteur.\r\nEr mus
 s es wissen. 260 km in sechs Tagen\, die harte Tour. Durch die Sahara\, 
 die Kalahari\, die Namib und die heiÃŸeste und hÃ¶chstgelegenste WÃ¼ste 
 der Welt\, die Atacama. Auch die Bergwelten Patagoniens\, dazu eine sieb
 entÃ¤gige Umrundung des Kilimanjaro hat er schon in den Beinen. Und im K
 opf\, vor allem dort. „Dort nÃ¤mlich spielt das Abenteuer“\, sagt er.\r\
 nJetzt zeigt er die stÃ¤rksten Bilder seiner Extrem-AlleingÃ¤nge\, mit K
 ommentaren\, in denen der geeichte Kabarettist durchkommt. (Pressetext)\
 r\n_____________________________________________________________________
 \r\n\r\nEinlass: 18:30\r\nBeginn: 19:30\r\n\r\nEINTRITT FREI !\r\nFreie 
 Sitzplatzwahl!\r\nKEINE RESERVIERUNG MÃ–GLICH!!\r\nKEINE ZÃ„HLKARTENRESE
 RVIERUNG!!\r\n\r\nEine Kooperations-Veranstaltung mit dem KULTURSOMMER P
 urkersdorf
 
LOCATION:Kulturverein "Die BÃ¼hne"
URL:https://www.die-buehne-purkersdorf.at/index.php?id=37
SUMMARY:HELMUT TSCHELLNIG - "WÃ¼ster Alleingang"
END:VEVENT
END:VCALENDAR
