BEGIN:VCALENDAR
VERSION:2.0
PRODID:-//Purkersdorf Online//NONSGML V1.0//DE
BEGIN:VEVENT
UID:13849@puon.at
DTSTAMP:20260424T122531
DTSTART:20190713T193000
DTEND:20190713T220000
LAST-MODIFIED:20190519T173643
DESCRIPTION:Hip-hop Boyband\r\n\r\nKULTURSOMMER Purkersdorf 2019\r\n \r\
 npan kee–bois ist ein KĂĽnstlerkollektiv\, welches 2016 in Meidling gegr
 ĂĽndet wurde. Nachdem 2017 ein groĂźes Interesse an dem Projekt vernomme
 n wurde\, steigerte sich die Hip-hop Boyband sukzessive in Sachen Profes
 sionalitĂ¤t und Output.\r\nAnfang 2018 wurde das erste Album “weltweit” 
 verĂ¶ffentlicht\, welches die Grundlage fĂĽr ein euphorisches Live DebĂĽ
 t bildete. Gleich im Anschluss daran wurden die Vorbereitungen fĂĽr das 
 Nachfolgeprojekt “weltweiter” getroffen\, welches Monate spĂ¤ter mit ebe
 nso guter Resonanz empfangen wurde.\r\nDerzeit arbeiten die fĂĽnf Musike
 r am dritten Studioalbum\, aber auch an weiteren Ideen um sich zu etabli
 eren.\r\nDie pan kee–bois sind die Musiker Hennezy (vormals DJ BarĂ§a)\,
  Kobein\, Schneckal\, almi\, Kion und der Multimedia-Mann Aris. (Presset
 ext)\r\n________________________________________________________________
 _____\r\n\r\nEinlass: 18:30\r\nBeginn: 19:30\r\n\r\nEINTRITT FREI !\r\nF
 reie Sitzplatzwahl!\r\nKEINE RESERVIERUNG MĂ–GLICH!!\r\nKEINE ZĂ„HLKARTE
 NRESERVIERUNG!!\r\n\r\nEine Kooperations-Veranstaltung mit dem KULTURSOM
 MER Purkersdorf\r\n
 
LOCATION:Kulturverein "Die BĂĽhne"
URL:https://www.die-buehne-purkersdorf.at/index.php?id=37
SUMMARY:pan kee–bois
END:VEVENT
END:VCALENDAR
