BEGIN:VCALENDAR
VERSION:2.0
PRODID:-//Purkersdorf Online//NONSGML V1.0//DE
BEGIN:VEVENT
UID:13848@puon.at
DTSTAMP:20260422T065343
DTSTART:20190706T193000
DTEND:20190706T220000
LAST-MODIFIED:20190519T173021
DESCRIPTION:Foto: zvg Gem PuDo\r\n\r\nKultursommer Purkersdorf | Ein leg
 endÃ¤rer Abend mit der Kultband\r\n\r\nIhre groÃŸen Hits liefen auch 201
 8 noch Ã¼ber 1000 mal im Jahr im Radio\, in den 1980ern waren sie die er
 folgreichste New Wave Band der Alpen\, spielten 250 Konzerte und hÃ¶rten
  wie’s am SchÃ¶nsten war einfach auf. Einfach so.\r\nMINISEX\, die Band 
 um „Rudi\, Rudi gib 8 Nemeczek“ hat sich 2014 wieder zur Produktion eine
 s neuen Albums zusammengefunden. Wer sich bei ihren Live Auftritten seni
 ore ZurÃ¼ckhaltung erwartet wird hefÂ­tigst enttÃ¤uscht werden. Ganz nac
 h der Devise „Laut\, wild und proud“. MINISEX\, die jÃ¼ngsten Dinos der 
 Welt.\r\n\r\n\r\nBesetzung:\r\nRudi Nemeczek (voc)\,\r\nRudi Oschelda (g
 it)\,\r\nHannes Seidl (keys)\,\r\nWalter Marchart (bass)\r\nTommy BÃ¶rÃ¶
 cz (drums)\r\n__________________________________________________________
 ___________\r\n\r\nEinlass: 18:30\r\nBeginn: 19:30\r\n\r\nEINTRITT FREI 
 !\r\nFreie Sitzplatzwahl!\r\nKEINE RESERVIERUNG MÃ–GLICH!!\r\nKEINE ZÃ„H
 LKARTENRESERVIERUNG!!\r\n\r\nEine Kooperations-Veranstaltung mit dem KUL
 TURSOMMER Purkersdorf\r\n
 
LOCATION:Kulturverein "Die BÃ¼hne"
URL:https://www.die-buehne-purkersdorf.at/index.php?id=37
SUMMARY:Minisex
END:VEVENT
END:VCALENDAR
