BEGIN:VCALENDAR
VERSION:2.0
PRODID:-//Purkersdorf Online//NONSGML V1.0//DE
BEGIN:VEVENT
UID:3l1g2uujdk468rfe5md1dta2ue@google.com
DTSTAMP:20260426T015151
DTSTART;VALUE=DATE:20190805
DTEND;VALUE=DATE:20190806
LAST-MODIFIED:20190508T105459
DESCRIPTION:Mit Nativspeaker naturwissenschaftliche Experimente durchfüh
 ren oder Tiere und Pflanzen beobachten. Bei spannenden Waldaktivitäten s
 pielerisch Englisch lernen.<br>Montag bis Donnerstag jeweils von 9.00 bi
 s 17.00 Uhr<br>Freitag: verkürzt bis 15.00 Uhr<br><br><b>Details</b>: ht
 tps://www.learningevents.at/de/ferienprogramm/#Outdoor<br><b>Kosten:</b>
  € 250\,-/Woche (Wahleise Mittagessen zubuchbar: € 35\,-/Woche)<br><b>An
 meldung und Kontakt: </b>Learning Events 0699-103 64 751/ info@learninge
 vaents.at / www.learningevents.at
 
LOCATION:Treffpunkt: Naturparkzentrum Purkersdorf, am Ende der Hyrtlgasse, 3002 Purkersdorf
SUMMARY:OUTDOOR ADVENTURE & ENGLISH: Sommerfrienwoche im Wald
END:VEVENT
END:VCALENDAR
