BEGIN:VCALENDAR
VERSION:2.0
PRODID:-//Purkersdorf Online//NONSGML V1.0//DE
BEGIN:VEVENT
UID:3v6a0leslptgm1la6v1d4ivphc@google.com
DTSTAMP:20260421T215355
DTSTART;VALUE=DATE:20190701
DTEND;VALUE=DATE:20190702
LAST-MODIFIED:20190508T105520
DESCRIPTION:Mit Nativspeaker naturwissenschaftliche Experimente durchfüh
 ren oder Tiere und Pflanzen beobachten. Bei spannenden Waldaktivitäten s
 pielerisch Englisch lernen.<br>Montag bis Donnerstag jeweils von 9.00 bi
 s 17.00 Uhr<br>Freitag: verkürzt bis 15.00 Uhr<br><br><b>Details: </b><a
  href="https://www.learningevents.at/de/ferienprogramm/#Outdoor" target=
 "_blank">https://www.learningevents.at/de/ferienprogramm/#Outdoor</a><b>
 <br></b><b>Kosten: </b>€ 250\,-/Woche (Wahleise Mittagessen zubuchbar: €
  35\,-/Woche)<br><b>Anmeldung und Kontakt:</b> Learning Events 0699-103 
 64 751/ <a href="mailto:info@learningevaents.at" target="_blank">info@le
 arningevaents.at</a> / <a href="http://www.learningevents.at" target="_b
 lank">www.learningevents.at</a>
 
LOCATION:Treffpunkt: Naturparkzentrum Purkersdorf, am Ende der Hyrtlgasse, 3002 Purkersdorf
SUMMARY:OUTDOOR ADVENTURE & ENGLISH. Sommerferienwoche im Wald mit Learning Events
END:VEVENT
END:VCALENDAR
