BEGIN:VCALENDAR
VERSION:2.0
PRODID:-//Purkersdorf Online//NONSGML V1.0//DE
BEGIN:VEVENT
UID:5k1dcq5tms7va9i9gocs7h2bd7@google.com
DTSTAMP:20260425T025150
DTSTART;VALUE=DATE:20190722
DTEND;VALUE=DATE:20190723
LAST-MODIFIED:20190508T110012
DESCRIPTION:<br>In diesem Camps können Kinder (im Alter von 6-12 Jahre) 
 Erfahrungen sammeln\, die ihre Verbindung zur Natur stärken und die es i
 hnen erlaubt\, sich in der Natur zu Hause zu fühlen. Durch kreatives Spi
 elen undEntdecken\, arbeiten die Kinder in kleinen Gruppen zusammen und 
 erlangen Achtsamkeit gegenüber Natur und Wissen über Pflanzen\, Säugetie
 re\, Spurenlesen\, Vögel und Überlebenstechniken.<br>Montag bis Donnerst
 ag von 8.30 Uhr bis 16.30 Uhr\, Freitag verkürzt<br><br><b>Anmeldung:</b
 > www.waldwildnis.at / info@waldwildnis.at / 0650-7977999/ Anmeldung bis
  3 Wochen vorher<br><b>Kosten:</b> € 150\,-/Woche
 
LOCATION:Treffpunkt wird bei Anmeldung bekannt gegeben
SUMMARY:Waldwochen 2019: Tagescamps in den Ferien
END:VEVENT
END:VCALENDAR
