BEGIN:VCALENDAR
VERSION:2.0
PRODID:-//Purkersdorf Online//NONSGML V1.0//DE
BEGIN:VEVENT
UID:25es13ejgug5nncrr625puj824@google.com
DTSTAMP:20260424T103110
DTSTART:20190712T120000
DTEND:20190712T143000
LAST-MODIFIED:20190508T110943
DESCRIPTION:<br>Gemeinsam mit dem Imker Benno Karner in die geheimnisvol
 leWelt der Bienen eintauchen\, einen Blick in den Bienenstock werfen ode
 r einfach eine Bienenwabe entdeckeln und selbst das kostbare Gold aus de
 r Wabe schleudern und gleich mit nach Hause nehmen. (1x 250g sind bei Te
 ilnahme inklusive)<br><br><b>Anmeldung</b> im Naturparkbüro bis späteste
 ns 10.7.2019 unter Tel. 02231-63601-810 oder per Mail an info@naturpark-
 purkersdorf.at\,maximal 20 Teilnehmer<br><b>Kosten:</b> € 10\,-/Teilnehm
 erIn
 
LOCATION:Naturparkbüro Purkersdorf, Wiener Straße 12/4
SUMMARY:Naturpark-Honig Schauschleudern
END:VEVENT
END:VCALENDAR
