BEGIN:VCALENDAR
VERSION:2.0
PRODID:-//Purkersdorf Online//NONSGML V1.0//DE
BEGIN:VEVENT
UID:2rrrbffe1ugohn1hgnbg88qi4o@google.com
DTSTAMP:20260422T155729
DTSTART:20190711T130000
DTEND:20190711T153000
LAST-MODIFIED:20190508T111508
DESCRIPTION:Details zum Programm und Anmeldung unter www.vp-purkersdorf.
 at/familiensommer<br>Kosten: € 4\,-/Teilnehmer und Termin
 
LOCATION:Treffpunkt wird bei Anmeldung bekannt gegeben
SUMMARY:Familiensommer Purkersdorf: Forschen & Basteln am Wienfluss
END:VEVENT
END:VCALENDAR
