BEGIN:VCALENDAR
VERSION:2.0
PRODID:-//Purkersdorf Online//NONSGML V1.0//DE
BEGIN:VEVENT
UID:5h0ivvavu3deuk09bip33o5ac7@google.com
DTSTAMP:20260422T120814
DTSTART:20190709T133000
DTEND:20190709T160000
LAST-MODIFIED:20190508T111518
DESCRIPTION:<br>Details zum Programm und Anmeldung unter www.vp-purkersd
 orf.at/familiensommer <br><br>Kosten: € 4\,-/Teilnehmer und Termin
 
LOCATION:Treffpunkt wird bei Anmeldung bekannt gegeben
SUMMARY:Familiensommer Purkersdorf: Forschen & Basteln am Wienfluss
END:VEVENT
END:VCALENDAR
