BEGIN:VCALENDAR
VERSION:2.0
PRODID:-//Purkersdorf Online//NONSGML V1.0//DE
BEGIN:VEVENT
UID:1k39vgjqpku5m0ke00bgbqg8dt@google.com
DTSTAMP:20260424T210602
DTSTART:20190718T080000
DTEND:20190718T103000
LAST-MODIFIED:20190508T111829
DESCRIPTION:<br>Gemeinsam mit einer Waldpädagogin begeben sich die Kinde
 r auf die Suche nach den bunten Seite des Waldes (das ist mehr als „nur“
  das bunte Grün der Blätter) und gestalten nicht neben ihrem ganz persön
 lichen Pinsel anschließend damit auch ein Naturfarbenbild.<br><br><b>Det
 ails\, Kosten und Anmeldung:</b> Gemeinde Gablitz\, Tel: 02231/63466-131
 
LOCATION:Treffpunkt eird bei Anmeldung bekannt gegeben
SUMMARY:Ferienspiel Gablitz: Malen mit Waldfarben
END:VEVENT
END:VCALENDAR
