BEGIN:VCALENDAR
VERSION:2.0
PRODID:-//Purkersdorf Online//NONSGML V1.0//DE
BEGIN:VEVENT
UID:13820@puon.at
DTSTAMP:20260422T131034
DTSTART:20190515T140000
DTEND:20190515T190000
LAST-MODIFIED:20190509T111538
LOCATION:Bildungszentrum Purkersdorf
SUMMARY:Tag der offenen Tür Musikschule
END:VEVENT
END:VCALENDAR
