BEGIN:VCALENDAR
VERSION:2.0
PRODID:-//Purkersdorf Online//NONSGML V1.0//DE
BEGIN:VEVENT
UID:13812@puon.at
DTSTAMP:20260421T143914
DTSTART:20190627T193000
DTEND:20190627T220000
LAST-MODIFIED:20190505T182652
DESCRIPTION:FEATURING: MAD DOC AND THE MEDICINE SHOW\,     SGT. POTSCHKA
 ´S LONELY HEARTS CLUB BAND\, THE BRASS SECTION OF THE UNTOUCHABLES & SPE
 CIAL GUESTS\r\n \r\nAm 27.6.2019 wĂ¤re unser unvergessener\, lieber Freu
 nd Dr. Stephan LĂ¶chli 65 Jahre alt geworden.\r\nDas ist fĂĽr uns Anlass
 \, nochmals gemeinsam aufzutreten und ein wĂĽrdiges Gedenkkonzert fĂĽr u
 nseren ehemaligen Bandleader zu spielen.\r\nWir wollen sein Leben und Wi
 rken feiern\, in seinem Sinne am besten mit einem Abend voll Musik.\r\nD
 as Programm bestreiten Mad Doc and the Medicine Show\, Stephans erste vo
 n ihm gegrĂĽndete Rockband\, Sgt. Potschka´s Lonely Hearts Club Band\, S
 tephans Beatlesprojekt\, und die bewĂ¤hrten BlĂ¤ser der Untouchables.\r\
 nDas musikalische Programm setzt sich aus Stephans Lieblingssongs zusamm
 en\, und wer ihn gekannt hat\, weiĂź\, dass es eine gute Mischung aus Ro
 ck\, Blues\, Beat und Soul in allen Facetten zu hĂ¶ren geben wird.\r\n\r
 \nDer ReinerlĂ¶s kommt\, wie schon bei „Docs Rock for Africa“ 1+2\, dem 
 Verein zur BekĂ¤mpfung von Hunger und Elend in der demokratischen Republ
 ik Kongo\, zu Gute.\r\n\r\nLine up:\r\nWolfgang GrĂĽnzweig: Vocals\, Gui
 tar\,\r\nRudi Ehrenberger: Vocals\, Acoustic Guitar\r\nMaresi Bretschnei
 der: Vocals\, Harmonica\r\nMartin Kohlmann: Guitar\r\nReinhard Walter: K
 eyboards\r\nThomas Potschka: Vocals\, Bass Guitar\r\nChristian Rabitsch:
  Vocals\, Drums\r\nThe Brass Section of The Untouchables:\r\nJ.B. Rabits
 ch: Trumpet\, Harmonica\, Vocals\r\nLittle Willie „The King“ Graf: Saxop
 hone\r\n& special guest Karl Takats: Saxophone\r\n& Heli DEINBOEK voc\, 
 git\r\n_________________________________________________________________
 ____________________________________\r\n\r\nEinlass: 19:00 Uhr\r\nBeginn
 : 19:30 Uhr\r\n\r\nKarten:\r\n\r\n    VVK oeticket: Karten online | Tel.
 : 0196096\r\n    VVK "Die BĂĽhne": e-mail Kartenreservierung\r\n    Kart
 en Vorverkauf: € 18.- (Abholung an der Abendkassa)\r\n    Karten Abendka
 ssa: € 20.-\r\n\r\nErmĂ¤Ăźigungen:\r\n\r\n    SchĂĽler/Studenten/1424Jug
 end:karte NĂ– (Ausweis) Ticketpreis € 10.-\r\n    NĂ–N-Leserclub: € 2.- 
 ErmĂ¤Ăźigung pro Ticket fĂĽr Mitglieder\r\n    Ă–1-Club: 10% ErmĂ¤Ăźigun
 g pro Ticket (Club-Ausweis)\r\n    AK NĂ–: 20% ErmĂ¤Ăźigung pro Ticket (
 Mitgliedsausweis)\r\n\r\n\r\nRegionaler Vorverkauf: (ab VerfĂĽgbarkeit)\
 r\n\r\n    NIKODEMUS / Purkersdorf \r\n    RYDL´s Friseur+Haarreparatur 
 / Purkersdorf\r\n\r\n\r\n\r\nFreie Platzwahl!\r\nDas bedeutet\, dass Sie
  mit Ihrem Ticket entsprechend den Ă¶rtlichen Gegebenheiten Ihren Platz 
 frei auswĂ¤hlen kĂ¶nnen.\r\nEs kann sich dabei um SitzplĂ¤tze\, StehplĂ¤
 tze oder eine Teilbestuhlung ohne Sitzplatzanspruch handeln.
 
LOCATION:Kulturverein "Die BĂĽhne"
URL:https://www.die-buehne-purkersdorf.at/index.php?id=37
SUMMARY:DOCS ROCK FOR AFRICA 3 / Concert for Steve
END:VEVENT
END:VCALENDAR
