BEGIN:VCALENDAR
VERSION:2.0
PRODID:-//Purkersdorf Online//NONSGML V1.0//DE
BEGIN:VEVENT
UID:13810@puon.at
DTSTAMP:20260422T032549
DTSTART:20190603T193000
DTEND:20190603T220000
LAST-MODIFIED:20190505T181515
DESCRIPTION:Eine Reise durch die Zeit des feinsten Jazz\, Blues und Soul
 \r\n \r\n\r\nIm Dezember 2017 durften „Dora Leonardi & The Jolly Chaps“\
 , eine Gruppe verschiedener Musik-Studenten\, bereits die BĂĽhne Purkers
 dorf und ihre Besucher mit allerhand bekannten Hits begeistern.\r\n\r\nN
 ach vielen wertvollen Erfahrungen will „Purple Phase“ nun mit neuem Name
 n\, Selbstbewusstsein und Motivation die BĂĽhne erneut bespielen und das
  Publikum\, ganz an das klassische Ambiente der Location angepasst\, auf
  eine Reise durch die Zeit der feinsten Jazz\, Blues und Soul Kompositio
 nen nehmen!\r\n\r\nVocals: Dora Leonardi\r\nGuitar: Laurenz Kerschbaumer
 \r\nPiano: Mario Carp\r\nBass: Lukas Haderer\r\nDrums: Aleksandro Alcant
 ara Mulaosmanovic ______________________________________________________
 ____________________\r\n\r\nEinlass: 18:30\r\nBeginn: 19:30\r\n\r\nEINTR
 ITT FREI !\r\n\r\nFreie Sitzplatzwahl!\r\nKEINE RESERVIERUNG MĂ–GLICH!!\
 r\n\r\nGefĂ¶rdert durch das Land NĂ– "come-on" Kultur NĂ–\r\n
 
LOCATION:Kulturverein "Die BĂĽhne"
URL:https://www.die-buehne-purkersdorf.at/index.php?id=37
SUMMARY:Blue Monday: PURPLE PHASE 
END:VEVENT
END:VCALENDAR
