BEGIN:VCALENDAR
VERSION:2.0
PRODID:-//Purkersdorf Online//NONSGML V1.0//DE
BEGIN:VEVENT
UID:13809@puon.at
DTSTAMP:20260422T032541
DTSTART:20190601T190000
DTEND:20190601T200000
LAST-MODIFIED:20190505T175406
DESCRIPTION:Ein Benefiz-Konzert von StudentInnen der Musik und Kunst Pri
 vatuniversitÃ¤t Wien unter der Leitung von Univ.-Prof. Thomas List.\r\nA
 nekdoten und Geschichten begleiten den Abend.\r\nMit dem gesamten ErlÃ¶s
  Ihrer/eurer Spenden wird die Bali Life Foundation zu Gunsten bedÃ¼rftig
 er Kinder und Jugendlicher unterstÃ¼tzt.\r\nJunge KÃ¼nstler musizieren u
 nd lesen fÃ¼r einen guten Zweck! (Pressetext)\r\n\r\n___________________
 ________________________________________________________________________
 __________\r\n\r\nEinlass: 18:30 Uhr\r\nKonzert: 19:00 Uhr\r\n\r\nEINE V
 ERANSTALTUNG VON:\r\nRenate und Werner Brosch\r\n\r\nrenate.brosch@tplus
 .at\r\nwerner.brosch(at)tplus.at\r\n\r\nMindesteintrittsspende an der Ab
 endkassa von €15 erbeten.\r\n\r\nFreie Platzwahl!\r\n\r\nDas bedeutet\, 
 dass Sie mit Ihrem Ticket entsprechend den Ã¶rtlichen Gegebenheiten Ihre
 n Platz frei auswÃ¤hlen kÃ¶nnen.\r\nEs kann sich dabei um SitzplÃ¤tze\, 
 StehplÃ¤tze oder eine Teilbestuhlung ohne Sitzplatzanspruch handeln.    
 \r\n
 
LOCATION:Kulturverein "Die BÃ¼hne"
SUMMARY:Benefiz-Konzert  "FlÃ¶ten fÃ¼r Bali"
END:VEVENT
END:VCALENDAR
