BEGIN:VCALENDAR
VERSION:2.0
PRODID:-//Purkersdorf Online//NONSGML V1.0//DE
BEGIN:VEVENT
UID:13802@puon.at
DTSTAMP:20260422T131001
DTSTART:20190515T183000
DTEND:20190515T203000
LAST-MODIFIED:20190425T223352
DESCRIPTION:Treffpunkt Literatur: Jeden 3. Mittwoch im Monat (Beginn 18:
 30) lesen wir in der Kaiser-Josef-StraÃŸe 49 gemeinsam gute Literatur.\r
 \nAm 15. Mai findet der nÃ¤chste Leseabend statt\, an dem ich Euch\, ber
 eits lang versprochen\, den wunderbaren Unionsverlag vorstellen mÃ¶chte.
  Dieser kleine feine Verlag betreut zwar auch allseits bekannte Autoren 
 (Ihr kennt bereits Assia Djebar\, vielleicht auch Juri Rytcheu oder Yasa
 r Kemal). Aber viele Autoren / Schriftstellerinnen\, die „aus fernen Lan
 den“ (mittlerer oder ferner Osten\, Afrikanische LÃ¤nder\, SÃ¼damerika) 
 stammen\, sind mit nur EINEM Werk vertreten\, da es an den Ãœbersetzunge
 n mangelt. So stÃ¶ÃŸt man gerade bei solchen Verlagen (wie z.B. Lenos\, 
 auch Wagenbach u.a.) auf wahre SchÃ¤tze\, die darauf warten\, von uns en
 tdeckt zu werden. Garantiertes LesevergnÃ¼gen mit vielen Facetten einer 
 Weltsicht!\r\nGÃ¤ste herzlich willkommen. Nicht vergessen: 27. Mai Vea K
 aiser.\r\n \r\n
 
LOCATION:Kaiser-Josef-StraÃŸe 49
SUMMARY:Leseabend
END:VEVENT
END:VCALENDAR
