BEGIN:VCALENDAR
VERSION:2.0
PRODID:-//Purkersdorf Online//NONSGML V1.0//DE
BEGIN:VEVENT
UID:13798@puon.at
DTSTAMP:20260422T111423
DTSTART:20190527T200000
DTEND:20190527T213000
LAST-MODIFIED:20190526T221606
DESCRIPTION:BUCHHANDLUNG MITTERBAUER prÃ¤sentiert:\r\n\r\nVEA KAISER lie
 st aus ihrem neuesten Roman \r\n\r\n \r\n                               
               "RÃ¼ckwÃ¤rtswalzer"\r\n                                  o
 der Die Manen der Familie Prischinger\r\n\r\n\r\nDer neue groÃŸe Roman d
 er SPIEGEL-Bestseller-Autorin. Voller Verve\, Witz und HerzenswÃ¤rme erz
 Ã¤hlt Vea Kaiser von einer Familie aus dem niederÃ¶sterreichischen Waldv
 iertel\, von drei Schwestern\, die ein Geheimnis wahren\, von BÃ¤renfors
 chern\, die die Zeit anhalten mÃ¶chten\, und von den Seelen der Verstorb
 enen\, die uns begleiten\, ob wir wollen oder nicht.\r\n\r\nAls Onkel Wi
 lli stirbt\, stehen der Drittel-Life-Crisis geplagte Lorenz und seine dr
 ei Tanten vor einer Herausforderung. Willi wollte immer in seinem Geburt
 sland Montenegro begraben werden. Doch da fÃ¼r eine regelkonforme Ãœberf
 Ã¼hrung der Leiche das Geld fehlt\, begibt man sich kurzerhand auf eine 
 illegale Fahrt im Panda von Wien Liesing bis zum Balkan. Auf der 1029 Ki
 lometer langen Reise finden die abenteuerlichen Geschichten der Familie 
 Prischinger auf kunstvolle Weise zueinander.\r\n\r\nMirl\, die Ã¤lteste 
 der Schwestern\, muss nach dem Krieg schon frÃ¼h Verantwortung Ã¼bernehm
 en und will nur weg aus dem elterlichen Gasthof\, weg vom Land. Doch wed
 er die Stadt noch ihre Ehe entwickeln sich so\, wie sie es sich ertrÃ¤um
 te. Wetti interessiert sich bereits als Kind mehr fÃ¼r Tiere als fÃ¼r Me
 nschen. Als Putzfrau im Naturhistorischen Museum kennt sie die PrÃ¤parat
 e der Sammlungen bald besser als jeder Kurator\, und als alleinerziehend
 e Mutter einer dunkelhÃ¤utigen Tochter schockiert sie die Wiener Gesells
 chaft. Und Hedi\, die JÃ¼ngste im Bunde\, lernt Willi zu einem Zeitpunkt
  in ihrem Leben kennen\, an dem sie mit selbigem fast schon abgeschlosse
 n hat. Denn die drei Schwestern haben in jungen Jahren einen schweren Ve
 rlust erlitten. Und sie alle geben sich die Schuld daran.\r\n\r\n_______
 ____________________________________________________________\r\n\r\nEinl
 ass: 19:00 Uhr\r\nBeginn: 20:00 Uhr\r\n\r\nKarten:\r\n\r\n    VVK € 14.-
  (SchÃ¼ler / Studenten € 7.-)\r\n    Karten Vorverkauf: Buchhandlung Mit
 terbauer Purkersdorf\r\n    02231 / 64336\r\n\r\nKeine ErmÃ¤ÃŸigungen !\
 r\n\r\nFreie Platzwahl!\r\nDas bedeutet\, dass Sie mit Ihrem Ticket ents
 prechend den Ã¶rtlichen Gegebenheiten Ihren Platz frei auswÃ¤hlen kÃ¶nne
 n.\r\nEs kann sich dabei um SitzplÃ¤tze\, StehplÃ¤tze oder eine Teilbest
 uhlung ohne Sitzplatzanspruch handeln.\r\n
 
LOCATION:Kulturverein "Die BÃ¼hne"
URL:https://www.die-buehne-purkersdorf.at/index.php?id=37
SUMMARY:AUSVERKAUFT: Lesung VEA KAISER neues Buch
END:VEVENT
END:VCALENDAR
