BEGIN:VCALENDAR
VERSION:2.0
PRODID:-//Purkersdorf Online//NONSGML V1.0//DE
BEGIN:VEVENT
UID:13772@puon.at
DTSTAMP:20260422T030221
DTSTART:20190704T193000
DTEND:20190704T213000
LAST-MODIFIED:20190313T221424
DESCRIPTION:Im Rahmen des Kultursommers präsentiert der Chor VOICEpur s
 ein Apen Air Sommer Konzert im wunderbaren Ambiente des Schlossparks in 
 Purkersdorf.\r\nEINTRITT FREI
 
LOCATION:Schlosspark Purkersdorf
URL:https://www.voicepur.at
SUMMARY:VOICEpur Sommer Konzert
END:VEVENT
END:VCALENDAR
