BEGIN:VCALENDAR
VERSION:2.0
PRODID:-//Purkersdorf Online//NONSGML V1.0//DE
BEGIN:VEVENT
UID:26mk76m7gg92pjcoht8cdqp1dm@google.com
DTSTAMP:20260422T045139
DTSTART:20190705T163000
DTEND:20190705T190000
LAST-MODIFIED:20190704T192723
DESCRIPTION:<b>Graureiher\, Biber\, Eisvogel &amp\; co. - die etwas ande
 reTour auf den Spuren der Wienflussbewohner 2019</b><br>Ein bisserl Voge
 rl schauen\, den markanten Nagespuren eines Vierbeiners folgen und (wenn
  es richtig heiß ist) ein wenig am Wienfluss forschen... Spaß garantiert
 ! Gleichzeitig informiert euch unser Ornithologen über den Lebensraum Fl
 ießgewässer und dessen Bewohner.<br><br><b>MindestteilnehmerInnen: 8 Per
 sonen</b><br>Anmeldung im Naturparkbüro bis 2.7.2019<br>Tel. 02231-63601
 -810\; info@naturpark-purkersdorf.at<br>Kosten: Erwachsene €10\,-/Kinder
  €6\,-
 
LOCATION:Naturpark Purkersdorf, Treffpunkt Eingang P&Ride an der B44, 3002 Purkersdorf
SUMMARY:Naturpark Spechtl´n
END:VEVENT
END:VCALENDAR
