BEGIN:VCALENDAR
VERSION:2.0
PRODID:-//Purkersdorf Online//NONSGML V1.0//DE
BEGIN:VEVENT
UID:7l61l5cmnldk5peb7vkuvjb6vf@google.com
DTSTAMP:20260422T013037
DTSTART:20190602T080000
DTEND:20190602T110000
LAST-MODIFIED:20190107T134545
DESCRIPTION:<b>Kommt mit der Kräuterpädagogin Sabine in den Wald\, entde
 ckt dabei eure Kräuterliebe und lerne eure wilden Pflanzenfreunde kennen
 !</b><br>Superfood aus dem Supermarkt braucht ihr ab sofort nicht mehr\,
  denn direkt vor eurer Haustüre wächst genug davon\, und das kostenlos.<
 br>Packt das Kräuterkörberl ein und begebtt euch in geselliger Runde auf
  eine Wanderung der besonderen Art\, besuche dabei Mutter Natur und werd
 e zum Entdecker der „Fress Botanik“!<br><u>Geeignet für Anfänger\; </u>T
 eilnahme von Kindernin Begleitung Erwachsener möglich.<br>(Bis 12 Jahre 
 kostenlos/12-16 Jahre:50%)<br>Beitrag: 55.- (inkl. 5.- Materialbeitrag\,
  umfangreiches Skript mit Bildern und Rezepten\, Jause\, tw. Produkte zu
 m Mitnehmen)<br>Weitere Details und Anmeldung direkt bei unserem Koopera
 tionspartner unter <a href="mailto:info@naturzauber.at" target="_blank">
 info@naturzauber.at</a>
 
LOCATION:Naturpark Purkersdorf Sandstein-Wienerwald, Rudolf Hanke-Gasse,3002 Purkersdorf, Österreich
SUMMARY:Kräuterwanderung im Sommer
END:VEVENT
END:VCALENDAR
