BEGIN:VCALENDAR
VERSION:2.0
PRODID:-//Purkersdorf Online//NONSGML V1.0//DE
BEGIN:VEVENT
UID:13678@puon.at
DTSTAMP:20260424T151756
DTSTART:20190119T193000
DTEND:20190119T235900
LAST-MODIFIED:20190105T204053
DESCRIPTION:\r\n\r\nUnser 19. Musikerball findet am 19. Jänner 2019 sta
 tt. Die Musik stammt diesmal vom Joe Hofbauer Quintett\, von der Vienna 
 Woods Swing Big Band und natürlich von der Stadtkapelle Purkersdorf.\r\
 n\r\nEinlass 19:30 Uhr\, Beginn 20:30 Uhr\, Stadtsaal Purkersdorf\r\n\r\
 nKarten erhalten Sie bei allen unseren Musikerinnen und Musikern\, in de
 r Raiffeisen-Bank Wienerwald\, bei Optik am Hauptplatz oder telefonisch 
 unter 0664 277 77 99.
 
LOCATION:Stadtsaal Purkersdorf
URL:http://http://www.stadtkapelle-purkersdorf.at/
SUMMARY:Musikerball der Stadtkapelle Purkersdorf
END:VEVENT
END:VCALENDAR
