BEGIN:VCALENDAR
VERSION:2.0
PRODID:-//Purkersdorf Online//NONSGML V1.0//DE
BEGIN:VEVENT
UID:13644@puon.at
DTSTAMP:20260421T215415
DTSTART:20190701T090000
DTEND:20190701T100000
LAST-MODIFIED:20181221T112643
DESCRIPTION:Workshop - Aufbau\r\n\r\nTeilnehmer/innen: Kinder & Jugendli
 che von 6 bis 15 Jahre\r\n\r\nDauer: Montag bis Freitag\, 09:00 Uhr – 17
 :00 Uhr\r\n\r\nVerpflegung: Mittagessen gegen Aufpreis\r\n\r\nKurssprach
 e: Englisch & Deutsch\r\n\r\nVorkenntnisse: keine Vorkenntnisse nĂ¶tig\r
 \n\r\n   \r\nWorkshop - Inhalte\r\n\r\n\r\nNaturwissenschaftliche Experi
 mente\, Staudamm bauen\, Lagerfeuer\, Spielen in der Natur & Englisch
 
LOCATION:Naturpark Purkersdorf
URL:http://www.learningevents.at
SUMMARY:Outdoor Adventure & English for Kids
END:VEVENT
END:VCALENDAR
