BEGIN:VCALENDAR
VERSION:2.0
PRODID:-//Purkersdorf Online//NONSGML V1.0//DE
BEGIN:VEVENT
UID:13615@puon.at
DTSTAMP:20260422T155729
DTSTART;VALUE=DATE:20190711
DTEND;VALUE=DATE:20190712
LAST-MODIFIED:20181220T184547
SUMMARY:Restmüll 770-1100l
END:VEVENT
END:VCALENDAR
