BEGIN:VCALENDAR
VERSION:2.0
PRODID:-//Purkersdorf Online//NONSGML V1.0//DE
BEGIN:VEVENT
UID:13614@puon.at
DTSTAMP:20260421T143914
DTSTART;VALUE=DATE:20190627
DTEND;VALUE=DATE:20190628
LAST-MODIFIED:20181220T184547
SUMMARY:Restmüll 770-1100l
END:VEVENT
END:VCALENDAR
