BEGIN:VCALENDAR
VERSION:2.0
PRODID:-//Purkersdorf Online//NONSGML V1.0//DE
BEGIN:VEVENT
UID:13586@puon.at
DTSTAMP:20260426T015151
DTSTART;VALUE=DATE:20190805
DTEND;VALUE=DATE:20190806
LAST-MODIFIED:20181220T184612
SUMMARY:Biomüll
END:VEVENT
END:VCALENDAR
