BEGIN:VCALENDAR
VERSION:2.0
PRODID:-//Purkersdorf Online//NONSGML V1.0//DE
BEGIN:VEVENT
UID:13585@puon.at
DTSTAMP:20260425T150455
DTSTART;VALUE=DATE:20190729
DTEND;VALUE=DATE:20190730
LAST-MODIFIED:20181220T184612
SUMMARY:Biomüll
END:VEVENT
END:VCALENDAR
