BEGIN:VCALENDAR
VERSION:2.0
PRODID:-//Purkersdorf Online//NONSGML V1.0//DE
BEGIN:VEVENT
UID:13584@puon.at
DTSTAMP:20260425T025150
DTSTART;VALUE=DATE:20190722
DTEND;VALUE=DATE:20190723
LAST-MODIFIED:20181220T184612
SUMMARY:Biomüll
END:VEVENT
END:VCALENDAR
