BEGIN:VCALENDAR
VERSION:2.0
PRODID:-//Purkersdorf Online//NONSGML V1.0//DE
BEGIN:VEVENT
UID:13583@puon.at
DTSTAMP:20260424T155302
DTSTART;VALUE=DATE:20190715
DTEND;VALUE=DATE:20190716
LAST-MODIFIED:20181220T184612
SUMMARY:Biomüll
END:VEVENT
END:VCALENDAR
