BEGIN:VCALENDAR
VERSION:2.0
PRODID:-//Purkersdorf Online//NONSGML V1.0//DE
BEGIN:VEVENT
UID:13581@puon.at
DTSTAMP:20260421T215415
DTSTART;VALUE=DATE:20190701
DTEND;VALUE=DATE:20190702
LAST-MODIFIED:20181220T184612
SUMMARY:Biomüll
END:VEVENT
END:VCALENDAR
