BEGIN:VCALENDAR
VERSION:2.0
PRODID:-//Purkersdorf Online//NONSGML V1.0//DE
BEGIN:VEVENT
UID:13558@puon.at
DTSTAMP:20260425T042602
DTSTART;VALUE=DATE:20190723
DTEND;VALUE=DATE:20190724
LAST-MODIFIED:20181220T141336
SUMMARY:Gelber Sack
END:VEVENT
END:VCALENDAR
