BEGIN:VCALENDAR
VERSION:2.0
PRODID:-//Purkersdorf Online//NONSGML V1.0//DE
BEGIN:VEVENT
UID:13546@puon.at
DTSTAMP:20260425T174410
DTSTART;VALUE=DATE:20190731
DTEND;VALUE=DATE:20190801
LAST-MODIFIED:20181220T140947
SUMMARY:Altpapier
END:VEVENT
END:VCALENDAR
