BEGIN:VCALENDAR
VERSION:2.0
PRODID:-//Purkersdorf Online//NONSGML V1.0//DE
BEGIN:VEVENT
UID:13545@puon.at
DTSTAMP:20260421T125235
DTSTART;VALUE=DATE:20190626
DTEND;VALUE=DATE:20190627
LAST-MODIFIED:20181220T140947
SUMMARY:Altpapier
END:VEVENT
END:VCALENDAR
