BEGIN:VCALENDAR
VERSION:2.0
PRODID:-//Purkersdorf Online//NONSGML V1.0//DE
BEGIN:VEVENT
UID:13532@puon.at
DTSTAMP:20260422T102254
DTSTART;VALUE=DATE:20190708
DTEND;VALUE=DATE:20190709
LAST-MODIFIED:20181220T141811
SUMMARY:Restmüll 120-240l
END:VEVENT
END:VCALENDAR
