BEGIN:VCALENDAR
VERSION:2.0
PRODID:-//Purkersdorf Online//NONSGML V1.0//DE
BEGIN:VEVENT
UID:13157@puon.at
DTSTAMP:20260422T155729
DTSTART:20180322T183000
DTEND:20180322T210000
LAST-MODIFIED:20180319T123731
DESCRIPTION:Öffentliches Zusammensitzen der Gemeinderatsfraktion\r\nlib
  & GRÜNE+ pul (jetzt genannt: GRÜNEplus)\r\n\r\nTagesordnung:\r\n\r\n-
  Rückblick Gemeinderatssitzung\r\n\r\n- Aktuelles zum Thema Unterstütz
 ung von Flüchtlingen\r\n\r\n-Überblick Verkehrslösung Herrengasse-Umg
 ebung\r\n\r\n-Allfälliges\r\n\r\n\r\nKomm\, schau vorbei!
 
LOCATION:Salettl Purkersdorf
URL:http://www.grueneplus.at/
SUMMARY:GRÜNEplus Treffen
END:VEVENT
END:VCALENDAR
