BEGIN:VCALENDAR
VERSION:2.0
PRODID:-//Purkersdorf Online//NONSGML V1.0//DE
BEGIN:VEVENT
UID:13156@puon.at
DTSTAMP:20260422T140044
DTSTART:20180323T170000
DTEND:20180323T200000
LAST-MODIFIED:20180316T173527
DESCRIPTION:Seit 2013 veranstalten wir in unserem Ort die beliebten Klei
 dertauschpar­ties.\r\n\r\nDer Textilkonsum ist in den vergangenen Jahre
 n rasant gewachsen. Diese Entwicklung hat verheerende Auswirkungen auf M
 ensch und Umwelt. Etwa unwürdige und ungeschützte Arbeitsbedingungen i
 n der Textilindustrie\, starker Einsatz von Pestiziden und Chemikalien\,
  lange Transportwege und schwierige Entsorgung.\r\n\r\nJedes nicht gekau
 fte Kleidungsstück ist ein sinnvoller Ausweg aus dieser belastenden Ket
 te. Mit unserer Tauschparty macht das zusätzlich noch Freude!
 
LOCATION:Re:spect Kulturhaus
URL:https://www.facebook.com/events/155293551845629/
SUMMARY:Kleidertauschparty Purkersdorf
END:VEVENT
END:VCALENDAR
