BEGIN:VCALENDAR
VERSION:2.0
PRODID:-//Purkersdorf Online//NONSGML V1.0//DE
BEGIN:VEVENT
UID:13147@puon.at
DTSTAMP:20260422T084043
DTSTART:20180326T170000
DTEND:20180326T180000
LAST-MODIFIED:20180316T150750
DESCRIPTION:Wir stehen für eine erste unentgeltliche Rechtsauskunft zur
  Verfügung\r\n\r\n02231 67766
 
LOCATION:Fuchs & Reim Notare, Hauptplatz 3
SUMMARY:Notariat: Unentgeltliche Rechtsauskunft
END:VEVENT
END:VCALENDAR
