BEGIN:VCALENDAR
VERSION:2.0
PRODID:-//Purkersdorf Online//NONSGML V1.0//DE
BEGIN:VEVENT
UID:13144@puon.at
DTSTAMP:20260424T123919
DTSTART:20180320T190000
DTEND:20180320T210000
LAST-MODIFIED:20180315T232912
DESCRIPTION:Öffentliche Sitzung des Purkersdorfer Gemeinderates.\r\n\r\
 nKomm vorbei und schau zu!\r\n
 
LOCATION:Stadtsaal
URL:http://www.purkersdorf-online.at/politik/gr3/20180320_GR_EINLADUNG.pdf
SUMMARY:Gemeinderatssitzung
END:VEVENT
END:VCALENDAR
