BEGIN:VCALENDAR
VERSION:2.0
PRODID:-//Purkersdorf Online//NONSGML V1.0//DE
BEGIN:VEVENT
UID:13143@puon.at
DTSTAMP:20260424T175413
DTSTART:20180317T140000
DTEND:20180317T180000
LAST-MODIFIED:20180314T230136
DESCRIPTION:? 14:00 Demo Karlsplatz ? 16:45 Live-Musik (Infos folgen) ?\
 r\n\r\nAm Samstag\, 17. MÃ¤rz\, werden auf der ganzen Welt zehntausende 
 Menschen im Rahmen des UN-Tages gegen Rassismus fÃ¼r Vielfalt\, Toleranz
  und Multikulturalismus protestieren. Wir\, ein solidarischer Zusammensc
 hluss zivilgesellschaftlicher Initiativen\, Parteien und KÃ¼nstler_innen
 gruppen\, rufen um 14:00 Uhr zur GroÃŸdemonstration am Karlsplatz in Wie
 n auf. \r\n\r\nWir stellen uns gegen Hass\, gegen eine Spaltung der Gese
 llschaft und gegen eine ewiggestrige Politik der Hetze. Wir verurteilen 
 die Abschiebungen nach Afghanistan und in andere LÃ¤nder\, und die Sklav
 InnenmÃ¤rkte in Libyen\, die das EU-Grenzregime mit zu verantworten hat.
  Mit dieser SÃ¼ndenbockpolitik soll auch der geplante soziale Kahlschlag
  gerechtfertigt werden: Die Abschaffung der Notstandshilfe\, die EinfÃ¼h
 rung von Hartz IV\, StudiengebÃ¼hren\, 12-Stundentag und vieles mehr. \r
 \n\r\nEs ist ungeheuerlich\, dass ausgerechnet im Gedenkjahr an den soge
 nannten ?Anschluss? an Hitlerdeutschland ein Innenminister wieder davon 
 spricht\, Schutzsuchende ?konzentriert? an einem Ort zu halten\, und in 
 Burschenschaften wie der ?Germania? zum Massenmord an JÃ¼dinnen und Jude
 n aufgerufen wird. In internationalen Medienberichten ist wieder einmal 
 vom ?Nazi-Land? Ã–sterreich die Rede. \r\n\r\nWir zeigen am Samstag\, 17
 . MÃ¤rz 2018 das andere Ã–sterreich und demonstrieren fÃ¼r eine Welt ohn
 e Rassismus\, Faschismus\, Krieg und UnterdrÃ¼ckung. Wir wollen ? wie di
 e Ã¼berwÃ¤ltigende Mehrheit\, die den Nationalsozialismus ablehnt ? den 
 Ausschluss der deutschnationalen Burschenschafter aus der Regierung und 
 allen Ã„mtern.\r\n\r\n? Liste der UnterstÃ¼tzer_innen (wird laufend ergÃ
 ¤nzt) ?\r\n\r\n? #aufstehn\r\n? Achse kritischer SchÃ¼lerInnen Wien\r\n?
  Afro Rainbow Austria\r\n? Aktion kritischer SchÃ¼ler_innen\r\n? Asyl in
  Not - UnterstÃ¼tzungskomitee fÃ¼r politisch verfolgte AuslÃ¤nder/innen\
 r\n? Asylkoordination Ã–sterreich\r\n? Attac Ã–sterreich\r\n? AVESTA\r\n
 ? Beigewum ? Beirat fÃ¼r gesellschafts-\, wirtschafts- und umweltpolitis
 che Alternativen\r\n? Connect Donaustadt\r\n? Deserteurs- und FlÃ¼chtlin
 gsberatung\r\n? Demokratische KrÃ¤fteplattform Demokratik GÃ¼Ã§ Birli?i 
 (DGB) (Atigf\, Avusturya DHF Viyana Merkez.\, Viyana Vtid\, Avrupa Ezile
 n GÃ¶Ã§menler Konfederasyonu\,...)\r\n?Demokratische Kongress der VÃ¶lke
 r (HDK-A)\r\n? Die GrÃ¼nen Wien\r\n? Dokustelle Ã–sterreich Islamfeindli
 chkeit und antimuslimischer Rassismus\r\n? Ehe Ohne Grenzen\r\n? Faika E
 l-Nagashi (LAbg.)\, Integrations- und Menschenrechtssprecherin GrÃ¼ne Wi
 en\r\n? Feykom Ã–sterreich\r\n? FlÃ¼chtlingshilfe Ã–sterreich (FHÃ–)\r\n
 ? GUSTAV\r\n? IG Arbeitsbedingungen DAZ Basisbildung - Organisierung geg
 en Ausbeutung\r\n? Initiative Minderheiten\r\n? Interventionistische Lin
 ke Wien\r\n? JÃ¼dische Ã¶sterreichische HochschÃ¼lerInnen\r\n? Junge GrÃ
 ¼ne\r\n? Klosterneuburg hilft\r\n? KOMintern\r\n? KPÃ–\r\n? Linkswende j
 etzt\r\n? Netzwerk Muslimische Zivilgesellschaft\r\n? Omas gegen Rechts\
 r\n? OBRA - One Billion Rising Austria\r\n? Ã–H - Ã–sterreichische Hochs
 chÃ¼ler_innenschaft\r\n? Ã–sterreichischer Berufsverband der sozialen Ar
 beit (Obds Wien)\r\n? Plattform 20000frauen\r\n? Plattform fÃ¼r eine men
 schliche Asylpolitik\r\n? transdanubien.org - Rassismusfreies Transdanub
 ien\r\n? Refugees For Refugees\r\n? SambAttac Viena/Wien\r\n? Singender 
 Block\r\n? SozialdemokratInnen und GewerkschafterInnen gegen Notstandspo
 litik\r\n? Sozialistische Jugend Brigittenau\r\n? Sozialistische Jugend 
 Donaustadt\r\n? Sozialistische Jugend Ã–sterreich\r\n? Sozialistische Ju
 gend Wien\r\n? St. PÃ¶ltner Gutmenschen\r\n? System Change\, not Climate
  Change\r\n? Triangle blau Ã€ustria\r\n? Volkshilfe Ã–sterreich\r\n? YXK
  WIEN - Verein fÃ¼r Studierende aus Kurdistan
 
LOCATION:Wien, Karlsplatz
URL:https://www.facebook.com/events/285420301988990/
SUMMARY:GroÃŸdemo gegen Rassismus und Faschismus
END:VEVENT
END:VCALENDAR
