BEGIN:VCALENDAR
VERSION:2.0
PRODID:-//Purkersdorf Online//NONSGML V1.0//DE
BEGIN:VEVENT
UID:13140@puon.at
DTSTAMP:20260422T120815
DTSTART:20180324T100000
DTEND:20180324T180000
LAST-MODIFIED:20180323T142949
LOCATION:Schlosspark
SUMMARY:Ostermarkt
END:VEVENT
END:VCALENDAR
