BEGIN:VCALENDAR
VERSION:2.0
PRODID:-//Purkersdorf Online//NONSGML V1.0//DE
BEGIN:VEVENT
UID:13137@puon.at
DTSTAMP:20260424T175419
DTSTART:20180317T100000
DTEND:20180317T180000
LAST-MODIFIED:20180323T142949
LOCATION:Schlosspark
SUMMARY:Ostermarkt
END:VEVENT
END:VCALENDAR
