BEGIN:VCALENDAR
VERSION:2.0
PRODID:-//Purkersdorf Online//NONSGML V1.0//DE
BEGIN:VEVENT
UID:13134@puon.at
DTSTAMP:20260422T120814
DTSTART;VALUE=DATE:20180324
DTEND;VALUE=DATE:20180325
LAST-MODIFIED:20180313T210001
DESCRIPTION:Die Zeit wird in der Nacht von Samstag auf Sonntag um 02:00 
 Uhr nachts auf 03:00 Uhr vorgestellt. 
 
SUMMARY:Beginn der Sommerzeit
END:VEVENT
END:VCALENDAR
