BEGIN:VCALENDAR
VERSION:2.0
PRODID:-//Purkersdorf Online//NONSGML V1.0//DE
BEGIN:VEVENT
UID:13130@puon.at
DTSTAMP:20260424T193030
DTSTART:20180316T180000
DTEND:20180316T220000
LAST-MODIFIED:20180307T140354
DESCRIPTION:Noch lange sind Frauen nicht gleichberechtigt oder kÃ¶nnen s
 ich ihren eigenen WÃ¼nschen und BedÃ¼rfnissenn entsprechend entwickeln. 
 Daran wollen wir rund um den internationalen Frauentag erinnern.\r\nMit 
 einem Fest mit musikalischer UnterstÃ¼tzung kommen wir am 16.3. im Salet
 tl zusammen. Einlass ist um 18 Uhr\, das Programm beginnt um 19 Uhr. Mar
 en Rahmann singt widerstÃ¤ndige Frauenlieder begleitet von ihrem Akkorde
 on.\r\nDer Eintritt ist frei.\r\n\r\nAm 8. MÃ¤rz selbst verteilen wir Sc
 hokolade an den BahnhÃ¶fen in Purkersdorf – ein kleines DankeschÃ¶n an a
 lle Frauen\, die tÃ¤glich meist ungesehen und oft unbedankt dafÃ¼r sorge
 n\, dass "alles lÃ¤uft".\r\n\r\nChristiane Maringer\,\r\nUmweltstadtrÃ¤t
 in\r\noffice@grueneplus.at
 
SUMMARY:Wir feiern den internationalen Frauentag
END:VEVENT
END:VCALENDAR
