BEGIN:VCALENDAR
VERSION:2.0
PRODID:-//Purkersdorf Online//NONSGML V1.0//DE
BEGIN:VEVENT
UID:13128@puon.at
DTSTAMP:20260424T103109
DTSTART:20180321T190000
DTEND:20180321T210000
LAST-MODIFIED:20180306T164135
DESCRIPTION:Mittwoch  21. MĂ¤rz - um 19 Uhr beginnt wieder unser Leseabe
 nd. \r\nNoch einmal wollen wir in die „francophone“ Literatur eintauchen
 \, besonders zeitgenĂ¶ssischer Autorinnen:\r\nDie „Grande dame“ Assia Dj
 ebar gibt uns Einblick in das Leben der algerisch-franzĂ¶sischen Kolonie
 n\, besonders der Frauen. \r\nEine Generation jĂĽnger ist Saphia Azzeddi
 ne\, die mit 9 Jahren aus Marokko nach Frankreich zog. Mit unglaublicher
  Ironie und Leichtigkeit erzĂ¤hlt sie von Menschen am Rand der Gesellsch
 aft: eine Entdeckung! \r\nEine weitere Autorin\, Marie NDiaye\, hat sene
 galesische und franzĂ¶sische Wurzeln. In ihrem Roman „Drei starke Frauen
 “ beschreibt sie wortmĂ¤chtig und kraftvoll Schicksale zwischen Afrika u
 nd Europa.\r\nSchlieĂźlich wollen wir nochmals gemeinsam ein\, zwei kurz
 e Szenen aus Joel Pommerat´s „Wiedervereinigung der beiden Koreas“ lesen
 .\r\nHerzliche Einladung an alle Interessenten!   \r\n\r\n\r\n\r\n\r\n\r
 \n
 
LOCATION:Kaiser-Josef-StraĂźe 49
SUMMARY:Leseabend
END:VEVENT
END:VCALENDAR
