BEGIN:VCALENDAR
VERSION:2.0
PRODID:-//Purkersdorf Online//NONSGML V1.0//DE
BEGIN:VEVENT
UID:13127@puon.at
DTSTAMP:20260421T162816
DTSTART:20180404T200000
DTEND:20180404T220000
LAST-MODIFIED:20180305T161153
DESCRIPTION:"Fräulein Feunerstein & Freunde" - freie Spende 
 
LOCATION:Tauschkreis Wienerwald
URL:http://www.purkersdorf-online.at/tauschkreis/jazz--chanson-fraeulein-feuerstein.php
SUMMARY:Jazz & Chanson 
END:VEVENT
END:VCALENDAR
