BEGIN:VCALENDAR
VERSION:2.0
PRODID:-//Purkersdorf Online//NONSGML V1.0//DE
BEGIN:VEVENT
UID:7mjsq7hd1mf96jtiedpqupv5hi@google.com
DTSTAMP:20260421T125246
DTSTART:20180406T153000
DTEND:20180406T180000
LAST-MODIFIED:20180406T083150
DESCRIPTION:Vielleicht haben Sie sich beim Naturparkspaziergang auch sch
 onöfters gefragt\, wer denn die Urheber der wunderschönen Klopfgeräusche
  sind\,sowie wessen Nagespuren im Wald hinterlassen wurden? Begleiten Si
 e uns auf eine kleine geführte Wanderung/Tour und lauschen Sie mit unser
 em Experten den vielfältigen "Stimmen" der heimischen Spechtarten oder e
 ntdecken Sie verschiedenste Spuren im Wald bis die Dunkelheit auch die l
 etzten Rufe "verschluckt". MindestteilnehmerInnen: 8 Personen / Anmeldun
 g bis 4.4.2018
 
LOCATION:Naturpark Purkersdorf, Naturparkzentrum, Zugang über R. Hanke Gasse, 3002 Purkersdorf
SUMMARY:NATURPARK SPECHTLN - Spezialthema: Grün-, Grau- & Schwarzspecht
END:VEVENT
END:VCALENDAR
