BEGIN:VCALENDAR
VERSION:2.0
PRODID:-//Purkersdorf Online//NONSGML V1.0//DE
BEGIN:VEVENT
UID:6rcufomsadrch3ug8kkqqfgcov@google.com
DTSTAMP:20260422T140000
DTSTART:20180323T140000
DTEND:20180323T163000
LAST-MODIFIED:20180321T164401
DESCRIPTION:Mit dem Naturparkteam durch den frühlingshaft duftenden Wald
  streifen und mit Naturvermittlerin Gabi viel Interessantes zum Bärlauch
  erfahren. Wir werden den Waldknoblauch sammeln\, gemeinsam verarbeiten 
 und verkosten. Für jeden Teilnehmer gibt es eine Kostprobe für Zuhause a
 ls Mitbringsel. MindestteilnehmerInnen: 8 Personen / Anmeldung im Naturp
 arkbüro bis 21.3.2018
 
LOCATION:Naturpark Purkersdorf, Naturparkzentrum / Zugang über R. Hanke-Gasse, 3002 Purkersdorf
SUMMARY:Walderlebnisse für die ganze Familie: Themenschwerpunkt BÄRLAUCH
END:VEVENT
END:VCALENDAR
