BEGIN:VCALENDAR
VERSION:2.0
PRODID:-//Purkersdorf Online//NONSGML V1.0//DE
BEGIN:VEVENT
UID:13104@puon.at
DTSTAMP:20260424T175419
DTSTART:20180317T084500
DTEND:20180317T113000
LAST-MODIFIED:20180130T155129
DESCRIPTION:Edith Wenger\, Sozialtherapeutin und Theologin\,\r\nspricht 
 zum Thema:\r\nWenn aus Sehnsucht Sucht wird\r\n\r\nVortrag inkl. FrÃ¼hst
 Ã¼ck € 12\,–\r\n\r\nAnmeldung bis spÃ¤testens 13.03.2018:\r\n02231 66698
  oder\r\n0681 81917781\r\nVeranstalter: FrÃ¼hstÃ¼ckstreffen fÃ¼r Frauen 
 – Gruppe Purkersdorf\r\n\r\n\r\n
 
LOCATION:Stadtsaal Purkersdorf
URL:https://www.fruehstuecks-treffen.at/events/27/
SUMMARY:FrÃ¼hstÃ¼ckstreffen fÃ¼r Frauen
END:VEVENT
END:VCALENDAR
