BEGIN:VCALENDAR
VERSION:2.0
PRODID:-//Purkersdorf Online//NONSGML V1.0//DE
BEGIN:VEVENT
UID:13101@puon.at
DTSTAMP:20260421T125235
DTSTART:20180406T193000
DTEND:20180406T220000
LAST-MODIFIED:20180129T172028
DESCRIPTION:"Marke: New Yorker / Vienna Song-craft"\r\n\r\n\r\nNehmen Si
 e ein StÃ¼ckchen Ray Charles\, einen Hauch Billy Joel\, eine Prise Eagle
 s\, etwas Stevie Wonder\, ein FÃ¼nftel von ZZ-TOP und ein Stampel von St
 eppenwolf --- mischen Sie alles zusammen und fÃ¼gen Sie noch etwas Paul 
 McCartneyund David Bowie hinzu: Das ist dann die Joey Green Band!\r\nOri
 ginell\, innovativ und groovin '! \r\n\r\nNach einer lÃ¤ngerer Pause prÃ
 ¤sentiert Joey Green auch wieder seine eigene Musik mit Joey Green Band.
 \r\n“Love\, Love\, Love”\, "I'm Comin' On To You" And "In The Doghouse A
 gain" sind nur einige der neuesten Produktionen von Joey Green Band.\r\n
 (ErhÃ¤ltlich auf spotify)  https://open.spotify.com/track/20p4go6LMgEtM7
 WE8kUYOM\r\n\r\nJoey Green Band\, das sind fÃ¼nf der besten und gefragte
 sten Musiker Wiens.\r\n\r\nJoey Green - Gesang/Keyboards\r\nGidon Ã–chsn
 er (GewÃ¼rztraminer)  -  Gitarre\r\nTommy BÃ¶rÃ¶cz (Ostinato\, Stella Jo
 nes) -  Schlagzeug\r\nHannes Steif (Monty Beton\, Andrew Young) – Bass\r
 \nMichel Nahabedian - Saxophon.  \r\n\r\nEine Band mit der einzigartigen
  Marke von New Yorker/Wien Song-craft\,\r\n„will rock & groove you!“\r\n
 \r\n ___________________________________________________________________
 __________________________________\r\n\r\nEinlass: 18:30 Uhr\r\nBeginn: 
 19:30 Uhr\r\n\r\nKarten:\r\n\r\n    VVK oeticket: Karten online | Tel.: 
 0196096\r\n    VVK "Die BÃ¼hne": e-mail Kartenreservierung | Tel: 02231 
 64853 (Anrufbeantworter)\r\n    Karten Vorverkauf: € 18.- (Abholung an d
 er Abendkassa)\r\n    Karten Abendkassa: € 20.-\r\n\r\nErmÃ¤ÃŸigungen:\r
 \n\r\n    SchÃ¼ler/Studenten/1424Jugend:karte NÃ– (Ausweis) Ticketpreis 
 € 10.-\r\n    NÃ–N-Leserclub: € 2.- ErmÃ¤ÃŸigung pro Ticket fÃ¼r Mitglie
 der\r\n    Ã–1-Club: 20% ErmÃ¤ÃŸigung pro Ticket (Club-Ausweis)\r\n\r\n\
 r\nRegionaler Vorverkauf: (ab VerfÃ¼gbarkeit)\r\n\r\n    NIKODEMUS / Pur
 kersdorf \r\n    HAAR-ATELIER Eva BÃ¶hm / Gablitz\r\n    RYDL´s Friseur+
 Haarreparatur / Purkersdorf
 
LOCATION:BÃ¼hne
SUMMARY:JOEY GREEN Band
END:VEVENT
END:VCALENDAR
