BEGIN:VCALENDAR
VERSION:2.0
PRODID:-//Purkersdorf Online//NONSGML V1.0//DE
BEGIN:VEVENT
UID:13100@puon.at
DTSTAMP:20260422T120816
DTSTART:20180324T193000
DTEND:20180324T220000
LAST-MODIFIED:20180129T171946
DESCRIPTION:Die im Dezember 2009 gegrĂĽndete The Who Tribute Band hat es
  sich zur Aufgabe gemacht gleich ganze Who-Alben wie etwa die Rockopern 
 „Tommy“ oder „Quadrophenia“\, Live-Alben wie „Live At Leeds“ oder „Join 
 Togehter“\, sowie Studio-Alben wie „Who’s Next“\, „Face Dances“ oder „Wh
 o Are You“ zu performen.\r\n\r\nDie Band aus Wien hat desweiteren versch
 iedene Konzepte im Programm wie „Storyteller“\, „The Who Acoustical Jam“
 \, „Loud’N Dirty“ oder „Musik&Literatur“\, auĂźerdem eine Konzertreihe u
 nter dem Titel „Best Of The Who“ mit ausgewachsenen Rocksongs wie “Pinba
 ll Wizard”\, “Magic Bus”\, “Pictures Of Lily”\, “I Can See For Miles”\, 
 “Substitute”\, “Won´t Get Fooled Again”\, “Baba O´Riley”\, “Who Are You”
 \, “You Better You Bet”\, “My Generation”\, “The Acid Queen”\, “The Real
  Me”\, “Behind Blue Eyes”\, “Join Together”\, “I´m Free” and more...\r\n
 Erlebe mit und durch 5:15 – The Who Tribute eine der auĂźergewĂ¶hnlichst
 en Bands der Rockgeschichte – The Who.\r\n\r\n \r\nWolfgang SCHLEGL-TIEF
 ENBACHER – bass\r\nLukas SCHISKE – drums&percussions\, backing vocals\r\
 nGeorg WEILGUNY – keyboards\, backing vocals\r\nNemanja ANDJELKOVIC – el
 ectric guitar\, backing vocals\r\nAlexander KARLIN – lead&backing vocals
 \r\n\r\nhttps://www.facebook.com/pages/515-The-Who-Tribute/1618135639042
 08\r\n _________________________________________________________________
 ____________________________________\r\n\r\nEinlass: 18:30 Uhr\r\nBeginn
 : 19:30 Uhr\r\n\r\nKarten:\r\n\r\n    VVK oeticket: Karten online demnĂ¤
 chst... | Tel.: 0196096\r\n    VVK "Die BĂĽhne": e-mail Kartenreservieru
 ng | Tel: 02231 64853 (Anrufbeantworter)\r\n    Karten Vorverkauf: € 18.
 - (Abholung an der Abendkassa)\r\n    Karten Abendkassa: € 20.-\r\n\r\nE
 rmĂ¤Ăźigungen:\r\n\r\n    SchĂĽler/Studenten/1424Jugend:karte NĂ– (Auswe
 is) Ticketpreis € 10.-\r\n    NĂ–N-Leserclub: € 2.- ErmĂ¤Ăźigung pro Tic
 ket fĂĽr Mitglieder\r\n    Ă–1-Club: 20% ErmĂ¤Ăźigung pro Ticket (Club-A
 usweis)\r\n\r\n\r\nRegionaler Vorverkauf: (ab VerfĂĽgbarkeit)\r\n\r\n   
  NIKODEMUS / Purkersdorf \r\n    HAAR-ATELIER Eva BĂ¶hm / Gablitz\r\n   
  RYDL´s Friseur+Haarreparatur / Purkersdorf
 
LOCATION:BĂĽhne
SUMMARY:5:15 – the WHO Tribute „Best Of The Who“
END:VEVENT
END:VCALENDAR
